BEGIN:VCALENDAR
VERSION:2.0
PRODID:-//Vintage Old Biddy  - ECPv6.15.20//NONSGML v1.0//EN
CALSCALE:GREGORIAN
METHOD:PUBLISH
X-ORIGINAL-URL:https://vintageoldbiddy.com
X-WR-CALDESC:Events for Vintage Old Biddy 
REFRESH-INTERVAL;VALUE=DURATION:PT1H
X-Robots-Tag:noindex
X-PUBLISHED-TTL:PT1H
BEGIN:VTIMEZONE
TZID:America/New_York
BEGIN:DAYLIGHT
TZOFFSETFROM:-0500
TZOFFSETTO:-0400
TZNAME:EDT
DTSTART:20230312T070000
END:DAYLIGHT
BEGIN:STANDARD
TZOFFSETFROM:-0400
TZOFFSETTO:-0500
TZNAME:EST
DTSTART:20231105T060000
END:STANDARD
BEGIN:DAYLIGHT
TZOFFSETFROM:-0500
TZOFFSETTO:-0400
TZNAME:EDT
DTSTART:20240310T070000
END:DAYLIGHT
BEGIN:STANDARD
TZOFFSETFROM:-0400
TZOFFSETTO:-0500
TZNAME:EST
DTSTART:20241103T060000
END:STANDARD
BEGIN:DAYLIGHT
TZOFFSETFROM:-0500
TZOFFSETTO:-0400
TZNAME:EDT
DTSTART:20250309T070000
END:DAYLIGHT
BEGIN:STANDARD
TZOFFSETFROM:-0400
TZOFFSETTO:-0500
TZNAME:EST
DTSTART:20251102T060000
END:STANDARD
END:VTIMEZONE
BEGIN:VEVENT
DTSTART;TZID=America/New_York:20240903T000000
DTEND;TZID=America/New_York:20240903T235959
DTSTAMP:20260424T035656
CREATED:20240816T233245Z
LAST-MODIFIED:20240819T021342Z
UID:6623-1725321600-1725407999@vintageoldbiddy.com
SUMMARY:New Blog: Noel Coward
DESCRIPTION:I’m directing a production of Blithe Spirit and while I love the esthetic of Noel Coward I realized I don’t know as much about him as I wish I did so stay tuned for a blog post with information about this great man!
URL:https://vintageoldbiddy.com/event/new-blog-noel-coward/
CATEGORIES:Upcoming on VOB
END:VEVENT
END:VCALENDAR