BEGIN:VCALENDAR
VERSION:2.0
PRODID:-//Vintage Old Biddy  - ECPv6.15.20//NONSGML v1.0//EN
CALSCALE:GREGORIAN
METHOD:PUBLISH
X-WR-CALNAME:Vintage Old Biddy 
X-ORIGINAL-URL:https://vintageoldbiddy.com
X-WR-CALDESC:Events for Vintage Old Biddy 
REFRESH-INTERVAL;VALUE=DURATION:PT1H
X-Robots-Tag:noindex
X-PUBLISHED-TTL:PT1H
BEGIN:VTIMEZONE
TZID:America/New_York
BEGIN:DAYLIGHT
TZOFFSETFROM:-0500
TZOFFSETTO:-0400
TZNAME:EDT
DTSTART:20240310T070000
END:DAYLIGHT
BEGIN:STANDARD
TZOFFSETFROM:-0400
TZOFFSETTO:-0500
TZNAME:EST
DTSTART:20241103T060000
END:STANDARD
BEGIN:DAYLIGHT
TZOFFSETFROM:-0500
TZOFFSETTO:-0400
TZNAME:EDT
DTSTART:20250309T070000
END:DAYLIGHT
BEGIN:STANDARD
TZOFFSETFROM:-0400
TZOFFSETTO:-0500
TZNAME:EST
DTSTART:20251102T060000
END:STANDARD
BEGIN:DAYLIGHT
TZOFFSETFROM:-0500
TZOFFSETTO:-0400
TZNAME:EDT
DTSTART:20260308T070000
END:DAYLIGHT
BEGIN:STANDARD
TZOFFSETFROM:-0400
TZOFFSETTO:-0500
TZNAME:EST
DTSTART:20261101T060000
END:STANDARD
END:VTIMEZONE
BEGIN:VEVENT
DTSTART;TZID=America/New_York:20250119T203000
DTEND;TZID=America/New_York:20250119T220000
DTSTAMP:20260423T225937
CREATED:20240928T021220Z
LAST-MODIFIED:20240928T021220Z
UID:6832-1737318600-1737324000@vintageoldbiddy.com
SUMMARY:The Leopard and the Lynx
DESCRIPTION:Pat Tanner III wrote under several pseudonyms in the 1950s\, most famously Patrick Dennis\, the writer as well as narrator of Auntie Mame.\nAfter attempting to come to terms with his bi-sexuality\, Pat leaves his wife. As the two consider reconciliation\, Pat surprises her with an in person visit to discuss their relationship and by extension sexuality and feminism.
URL:https://vintageoldbiddy.com/event/the-leopard-and-the-lynx-2/
LOCATION:Hudson Guild Theatre\, 441 West 26th Street\, New York\, 10001\, United States
CATEGORIES:Productions
END:VEVENT
END:VCALENDAR