BEGIN:VCALENDAR
VERSION:2.0
PRODID:-//Vintage Old Biddy  - ECPv6.15.20//NONSGML v1.0//EN
CALSCALE:GREGORIAN
METHOD:PUBLISH
X-WR-CALNAME:Vintage Old Biddy 
X-ORIGINAL-URL:https://vintageoldbiddy.com
X-WR-CALDESC:Events for Vintage Old Biddy 
REFRESH-INTERVAL;VALUE=DURATION:PT1H
X-Robots-Tag:noindex
X-PUBLISHED-TTL:PT1H
BEGIN:VTIMEZONE
TZID:America/New_York
BEGIN:DAYLIGHT
TZOFFSETFROM:-0500
TZOFFSETTO:-0400
TZNAME:EDT
DTSTART:20250309T070000
END:DAYLIGHT
BEGIN:STANDARD
TZOFFSETFROM:-0400
TZOFFSETTO:-0500
TZNAME:EST
DTSTART:20251102T060000
END:STANDARD
BEGIN:DAYLIGHT
TZOFFSETFROM:-0500
TZOFFSETTO:-0400
TZNAME:EDT
DTSTART:20260308T070000
END:DAYLIGHT
BEGIN:STANDARD
TZOFFSETFROM:-0400
TZOFFSETTO:-0500
TZNAME:EST
DTSTART:20261101T060000
END:STANDARD
BEGIN:DAYLIGHT
TZOFFSETFROM:-0500
TZOFFSETTO:-0400
TZNAME:EDT
DTSTART:20270314T070000
END:DAYLIGHT
BEGIN:STANDARD
TZOFFSETFROM:-0400
TZOFFSETTO:-0500
TZNAME:EST
DTSTART:20271107T060000
END:STANDARD
END:VTIMEZONE
BEGIN:VEVENT
DTSTART;TZID=America/New_York:20260423T000000
DTEND;TZID=America/New_York:20260423T235959
DTSTAMP:20260422T181005
CREATED:20260102T040831Z
LAST-MODIFIED:20260102T040831Z
UID:8268-1776902400-1776988799@vintageoldbiddy.com
SUMMARY:New Flanacast Episode: Midnight Club Episode 10 Midnight
DESCRIPTION:Michelle and Dina will cover episode 10 of “The Midnight Club” Midnight.
URL:https://vintageoldbiddy.com/event/new-flanacast-episode-midnight-club-episode-10-midnight/
CATEGORIES:Upcoming on The Flanacast
END:VEVENT
BEGIN:VEVENT
DTSTART;TZID=America/New_York:20260428T000000
DTEND;TZID=America/New_York:20260428T235959
DTSTAMP:20260422T181005
CREATED:20260321T021449Z
LAST-MODIFIED:20260402T230157Z
UID:8519-1777334400-1777420799@vintageoldbiddy.com
SUMMARY:New Blog Episode: Plays In Process Eleanor and Amelia
DESCRIPTION:In 1933 Eleanor Roosevelt and Amelia Earhart took a night ride around Baltimore. Why?
URL:https://vintageoldbiddy.com/event/new-blog-episode/
CATEGORIES:Upcoming on VOB
END:VEVENT
BEGIN:VEVENT
DTSTART;TZID=America/New_York:20260501T200000
DTEND;TZID=America/New_York:20260517T180000
DTSTAMP:20260422T181005
CREATED:20260402T230604Z
LAST-MODIFIED:20260402T230604Z
UID:8605-1777665600-1779040800@vintageoldbiddy.com
SUMMARY:9-5 at The Heights Players
DESCRIPTION:For 3 weekeends only\, see Michelle as Roz in “9-5”!
URL:https://vintageoldbiddy.com/event/9-5-at-the-heights-players/
CATEGORIES:Performances
ORGANIZER;CN="The Heights Players":MAILTO:michelleamaccarone@gmail.com
END:VEVENT
BEGIN:VEVENT
DTSTART;TZID=America/New_York:20260507T000000
DTEND;TZID=America/New_York:20260507T235959
DTSTAMP:20260422T181005
CREATED:20260102T040959Z
LAST-MODIFIED:20260102T040959Z
UID:8270-1778112000-1778198399@vintageoldbiddy.com
SUMMARY:New Flanacast Episode: Midnight Club Wrap Up
DESCRIPTION:We wrap up our coverage of The Midnight Club and dive into what would have been the second season of The Midnight Club.
URL:https://vintageoldbiddy.com/event/new-flanacast-episode-midnight-club-wrap-up/
CATEGORIES:Upcoming on The Flanacast
END:VEVENT
BEGIN:VEVENT
DTSTART;TZID=America/New_York:20260519T000000
DTEND;TZID=America/New_York:20260519T235959
DTSTAMP:20260422T181005
CREATED:20260321T021611Z
LAST-MODIFIED:20260321T021611Z
UID:8521-1779148800-1779235199@vintageoldbiddy.com
SUMMARY:New! Biddie Bits Podcast Episode
DESCRIPTION:
URL:https://vintageoldbiddy.com/event/new-biddie-bits-podcast-episode/
CATEGORIES:Upcoming on VOB
END:VEVENT
END:VCALENDAR