BEGIN:VCALENDAR
VERSION:2.0
PRODID:-//Vintage Old Biddy  - ECPv6.15.20//NONSGML v1.0//EN
CALSCALE:GREGORIAN
METHOD:PUBLISH
X-WR-CALNAME:Vintage Old Biddy 
X-ORIGINAL-URL:https://vintageoldbiddy.com
X-WR-CALDESC:Events for Vintage Old Biddy 
REFRESH-INTERVAL;VALUE=DURATION:PT1H
X-Robots-Tag:noindex
X-PUBLISHED-TTL:PT1H
BEGIN:VTIMEZONE
TZID:America/New_York
BEGIN:DAYLIGHT
TZOFFSETFROM:-0500
TZOFFSETTO:-0400
TZNAME:EDT
DTSTART:20220313T070000
END:DAYLIGHT
BEGIN:STANDARD
TZOFFSETFROM:-0400
TZOFFSETTO:-0500
TZNAME:EST
DTSTART:20221106T060000
END:STANDARD
BEGIN:DAYLIGHT
TZOFFSETFROM:-0500
TZOFFSETTO:-0400
TZNAME:EDT
DTSTART:20230312T070000
END:DAYLIGHT
BEGIN:STANDARD
TZOFFSETFROM:-0400
TZOFFSETTO:-0500
TZNAME:EST
DTSTART:20231105T060000
END:STANDARD
BEGIN:DAYLIGHT
TZOFFSETFROM:-0500
TZOFFSETTO:-0400
TZNAME:EDT
DTSTART:20240310T070000
END:DAYLIGHT
BEGIN:STANDARD
TZOFFSETFROM:-0400
TZOFFSETTO:-0500
TZNAME:EST
DTSTART:20241103T060000
END:STANDARD
BEGIN:DAYLIGHT
TZOFFSETFROM:-0500
TZOFFSETTO:-0400
TZNAME:EDT
DTSTART:20250309T070000
END:DAYLIGHT
BEGIN:STANDARD
TZOFFSETFROM:-0400
TZOFFSETTO:-0500
TZNAME:EST
DTSTART:20251102T060000
END:STANDARD
END:VTIMEZONE
BEGIN:VEVENT
DTSTART;TZID=America/New_York:20240829T000000
DTEND;TZID=America/New_York:20240829T235959
DTSTAMP:20260423T062645
CREATED:20240816T233938Z
LAST-MODIFIED:20240816T233938Z
UID:6627-1724889600-1724975999@vintageoldbiddy.com
SUMMARY:New Episode of The Flanacast
DESCRIPTION:We’ll be finishing up our coverage of The Haunting of Hill House with an episode about “Silence Lay Steadily”
URL:https://vintageoldbiddy.com/event/new-episode-of-the-flanacast/
CATEGORIES:Upcoming on The Flanacast
END:VEVENT
BEGIN:VEVENT
DTSTART;TZID=America/New_York:20240819T000000
DTEND;TZID=America/New_York:20240819T235959
DTSTAMP:20260423T062645
CREATED:20240818T043617Z
LAST-MODIFIED:20240818T043617Z
UID:6652-1724025600-1724111999@vintageoldbiddy.com
SUMMARY:New Episode: VOB The Podcast
DESCRIPTION:Featuring Dina Grilli and A Thief in Disguise.
URL:https://vintageoldbiddy.com/event/new-episode-vob-the-podcast/
CATEGORIES:Upcoming on VOB
END:VEVENT
BEGIN:VEVENT
DTSTART;TZID=America/New_York:20240816T080000
DTEND;TZID=America/New_York:20240816T170000
DTSTAMP:20260423T062645
CREATED:20240816T235430Z
LAST-MODIFIED:20240816T235430Z
UID:6629-1723795200-1723827600@vintageoldbiddy.com
SUMMARY:New Episode of Vintage Old Biddy: The Podcast
DESCRIPTION:After a long hiatus\, your favorite variety show podcast is back featuring a new installment of “A Thief in Disguise” (This time a prequel!) an interview with Dina Grilli\, and a cover of an Irving Berlin hit!
URL:https://vintageoldbiddy.com/event/new-episode-of-vintage-old-biddy-the-podcast/
CATEGORIES:Upcoming on VOB
END:VEVENT
BEGIN:VEVENT
DTSTART;TZID=America/New_York:20240805T190000
DTEND;TZID=America/New_York:20240807T220000
DTSTAMP:20260423T062645
CREATED:20240708T041412Z
LAST-MODIFIED:20240712T205355Z
UID:6477-1722884400-1723068000@vintageoldbiddy.com
SUMMARY:Blithe Spirit Auditions
DESCRIPTION:Come audition for my October production of Blithe Spirit in Brooklyn Heights! Auditions Monday and Tuesday August 5-6\, callbacks August 7th.
URL:https://vintageoldbiddy.com/event/blithe-spirit-auditions/
LOCATION:The Heights Players\, 26 Willow Place\, Brooklyn\, NY\, United States
CATEGORIES:Productions
ORGANIZER;CN="The Heights Players":MAILTO:michelleamaccarone@gmail.com
END:VEVENT
BEGIN:VEVENT
DTSTART;TZID=America/New_York:20240718T000000
DTEND;TZID=America/New_York:20240718T235959
DTSTAMP:20260423T062645
CREATED:20240713T032545Z
LAST-MODIFIED:20240713T032858Z
UID:6495-1721260800-1721347199@vintageoldbiddy.com
SUMMARY:New Flanacast Episode: Episode 9 of The Haunting of Hill House
DESCRIPTION:This week we’ll cover Episode 7 of The Haunting of Hill House: Eulogy.
URL:https://vintageoldbiddy.com/event/new-flannacast-episode-episode-9-of-the-haunting-of-hill-house/
CATEGORIES:Upcoming on VOB
END:VEVENT
BEGIN:VEVENT
DTSTART;TZID=America/New_York:20240105T200000
DTEND;TZID=America/New_York:20240115T220000
DTSTAMP:20260423T062645
CREATED:20230910T152514Z
LAST-MODIFIED:20230910T153042Z
UID:3183-1704484800-1705356000@vintageoldbiddy.com
SUMMARY:Prelude to a Kiss at The Heights Players
DESCRIPTION:Michelle’s directorial debut! \nAn old man; A young bride; A kiss. Snuggle up for the holidays with this charming\, modern fairy tale that explores the enduring power of love. A Broadway hit about a storybook wedding gone awry\,
URL:https://vintageoldbiddy.com/event/prelude-to-a-kiss-at-the-heights-players/
LOCATION:The Heights Players\, 26 Willow Place\, Brooklyn\, NY\, United States
CATEGORIES:Productions
END:VEVENT
BEGIN:VEVENT
DTSTART;TZID=America/New_York:20231106T170000
DTEND;TZID=America/New_York:20231108T230000
DTSTAMP:20260423T062645
CREATED:20230910T151744Z
LAST-MODIFIED:20230910T151744Z
UID:3180-1699290000-1699484400@vintageoldbiddy.com
SUMMARY:Prelude to a Kiss Auditions
DESCRIPTION:Come audition for Michelle’s first MainStage directing endevor! More info can be found and will be updated on heightsplayers.org
URL:https://vintageoldbiddy.com/event/prelude-to-a-kiss-auditions/
LOCATION:The Heights Players\, 26 Willow Place\, Brooklyn\, NY\, United States
CATEGORIES:Productions
END:VEVENT
BEGIN:VEVENT
DTSTART;TZID=America/New_York:20230920T000000
DTEND;TZID=America/New_York:20230920T235959
DTSTAMP:20260423T062645
CREATED:20230916T203731Z
LAST-MODIFIED:20230916T203731Z
UID:3274-1695168000-1695254399@vintageoldbiddy.com
SUMMARY:VOB Does "Another Top Ten"
DESCRIPTION:Did you ever wonder what Michelle’s favorite top 10 black and white movies are? Well wait no further! On this week’s episode of “Another Top Ten” I sit down with Kyle to discuss just this very topic!
URL:https://vintageoldbiddy.com/event/vob-does-another-top-ten/
CATEGORIES:Performances
END:VEVENT
BEGIN:VEVENT
DTSTART;TZID=America/New_York:20230919T000000
DTEND;TZID=America/New_York:20230919T235959
DTSTAMP:20260423T062645
CREATED:20230916T202913Z
LAST-MODIFIED:20230916T202913Z
UID:3270-1695081600-1695167999@vintageoldbiddy.com
SUMMARY:Michelle's 40th Birthday!
DESCRIPTION:It’s my birthday! I hope if you’re here and reading this you might think about subscribing support or leaving a tip.
URL:https://vintageoldbiddy.com/event/michelles-40th-birthday/
END:VEVENT
BEGIN:VEVENT
DTSTART;TZID=America/New_York:20230918T000000
DTEND;TZID=America/New_York:20230918T235959
DTSTAMP:20260423T062645
CREATED:20230916T203050Z
LAST-MODIFIED:20230916T203050Z
UID:3272-1694995200-1695081599@vintageoldbiddy.com
SUMMARY:Website Relaunch
DESCRIPTION:The official relaunch of Vintageoldbiddy.com!
URL:https://vintageoldbiddy.com/event/website-relaunch/
CATEGORIES:Upcoming on VOB
END:VEVENT
END:VCALENDAR