BEGIN:VCALENDAR
VERSION:2.0
PRODID:-//Vintage Old Biddy  - ECPv6.15.20//NONSGML v1.0//EN
CALSCALE:GREGORIAN
METHOD:PUBLISH
X-ORIGINAL-URL:https://vintageoldbiddy.com
X-WR-CALDESC:Events for Vintage Old Biddy 
REFRESH-INTERVAL;VALUE=DURATION:PT1H
X-Robots-Tag:noindex
X-PUBLISHED-TTL:PT1H
BEGIN:VTIMEZONE
TZID:America/New_York
BEGIN:DAYLIGHT
TZOFFSETFROM:-0500
TZOFFSETTO:-0400
TZNAME:EDT
DTSTART:20240310T070000
END:DAYLIGHT
BEGIN:STANDARD
TZOFFSETFROM:-0400
TZOFFSETTO:-0500
TZNAME:EST
DTSTART:20241103T060000
END:STANDARD
BEGIN:DAYLIGHT
TZOFFSETFROM:-0500
TZOFFSETTO:-0400
TZNAME:EDT
DTSTART:20250309T070000
END:DAYLIGHT
BEGIN:STANDARD
TZOFFSETFROM:-0400
TZOFFSETTO:-0500
TZNAME:EST
DTSTART:20251102T060000
END:STANDARD
BEGIN:DAYLIGHT
TZOFFSETFROM:-0500
TZOFFSETTO:-0400
TZNAME:EDT
DTSTART:20260308T070000
END:DAYLIGHT
BEGIN:STANDARD
TZOFFSETFROM:-0400
TZOFFSETTO:-0500
TZNAME:EST
DTSTART:20261101T060000
END:STANDARD
END:VTIMEZONE
BEGIN:VEVENT
DTSTART;TZID=America/New_York:20250710T000000
DTEND;TZID=America/New_York:20250710T235959
DTSTAMP:20260423T043614
CREATED:20250420T022224Z
LAST-MODIFIED:20250420T022556Z
UID:7219-1752105600-1752191999@vintageoldbiddy.com
SUMMARY:New Flanacast Episode: Midnight Mass Episode 6
DESCRIPTION:Dina and Michelle cover Midnight Mass Episode 6: Acts of the Apostles
URL:https://vintageoldbiddy.com/event/new-flanacast-episode-midnight-mass-episode/
CATEGORIES:Upcoming on The Flanacast
END:VEVENT
BEGIN:VEVENT
DTSTART;TZID=America/New_York:20250721T080000
DTEND;TZID=America/New_York:20250723T220000
DTSTAMP:20260423T043614
CREATED:20250616T030234Z
LAST-MODIFIED:20250714T002852Z
UID:7377-1753084800-1753308000@vintageoldbiddy.com
SUMMARY:Pillowman Auditions
DESCRIPTION:Michelle is directing a production of Pillowman in Brooklyn\, come audition! \nOpen Call Auditions July 21\, July 23. Callbacks July 24. More info soon!
URL:https://vintageoldbiddy.com/event/pillowman-auditions/
LOCATION:The Heights Players\, 26 Willow Place\, Brooklyn\, NY\, United States
CATEGORIES:Productions
ORGANIZER;CN="The Heights Players":MAILTO:michelleamaccarone@gmail.com
END:VEVENT
BEGIN:VEVENT
DTSTART;TZID=America/New_York:20250724T000000
DTEND;TZID=America/New_York:20250724T235959
DTSTAMP:20260423T043614
CREATED:20250420T022502Z
LAST-MODIFIED:20250420T022502Z
UID:7221-1753315200-1753401599@vintageoldbiddy.com
SUMMARY:New Flanacast Episode: Episode 7
DESCRIPTION:Dina and Michelle cover Midnight Mass Episode 7: Revelation
URL:https://vintageoldbiddy.com/event/new-flanacast-episode-episode-7/
CATEGORIES:Upcoming on The Flanacast
END:VEVENT
BEGIN:VEVENT
DTSTART;TZID=America/New_York:20250725T000000
DTEND;TZID=America/New_York:20250725T235959
DTSTAMP:20260423T043614
CREATED:20250714T002610Z
LAST-MODIFIED:20250714T002706Z
UID:7527-1753401600-1753487999@vintageoldbiddy.com
SUMMARY:New Episode of Vintage Old Biddy: The Podcast
DESCRIPTION:Pride should be all year right? Well I love to hear it as the pride episode was delayed. But we’ll have a gay anthem\, conersations about the Netflix show Queer Ultimatum\, and an original radio play by Michelle Maccarone!
URL:https://vintageoldbiddy.com/event/new-episode-of-vintage-old-biddy-the-podcast-4/
CATEGORIES:Upcoming on VOB
END:VEVENT
END:VCALENDAR